BEGIN:VCALENDAR
VERSION:2.0
PRODID:-//Cocoon a.s.b.l.
CALSCALE:GREGORIAN
METHOD:PUBLISH
X-WR-CALNAME:Cocoon a.s.b.l.
X-ORIGINAL-URL:https://cocoon-asbl.be/formations/event/loi-sur-les-marches-publics-applicables-aux-asbl/
X-WR-CALDESC:Loi sur les marchés publics applicables aux asbl
BEGIN:VEVENT
DTSTART:20190916T000000
DTEND:20191007T000000
SUMMARY:Loi sur les marchés publics applicables aux asbl
DESCRIPTION:
LOCATION:rue Paul Pastur 2B, 7500 Tournai
END:VEVENT
END:VCALENDAR
