BEGIN:VCALENDAR
VERSION:2.0
PRODID:-//Cocoon a.s.b.l.
CALSCALE:GREGORIAN
METHOD:PUBLISH
X-WR-CALNAME:Cocoon a.s.b.l.
X-ORIGINAL-URL:https://cocoon-asbl.be/formations/event/realiser-sa-carte-centrale-avec-le-freemind-pour-gerer-les-documents-electroniques/
X-WR-CALDESC:Réaliser sa carte centrale avec le Freemind pour gérer les documents électroniques
BEGIN:VEVENT
DTSTART:20191121T090000
DTEND:20191122T160000
SUMMARY:Réaliser sa carte centrale avec le Freemind pour gérer les documents électroniques
DESCRIPTION:
LOCATION:Chaussée des Collines 54, 1300 Wavre
END:VEVENT
END:VCALENDAR
