BEGIN:VCALENDAR
VERSION:2.0
PRODID:-//Cocoon a.s.b.l.
CALSCALE:GREGORIAN
METHOD:PUBLISH
X-WR-CALNAME:Cocoon a.s.b.l.
X-ORIGINAL-URL:https://cocoon-asbl.be/formations/event/communiquer-en-osant-saffirmer-de-maniere-positive-sans-saffronter-et-enfin-avoir-des-concertations-et-des-reunions-efficaces-3/
X-WR-CALDESC:Communiquer en osant s’affirmer de manière positive sans s’affronter et enfin avoir des concertations et des réunions efficaces
BEGIN:VEVENT
DTSTART:20190513T090000
DTEND:20190617T160000
SUMMARY:Communiquer en osant s’affirmer de manière positive sans s’affronter et enfin avoir des concertations et des réunions efficaces
DESCRIPTION:
LOCATION:Rue de Binche 151, 7000 Mons
END:VEVENT
END:VCALENDAR
