BEGIN:VCALENDAR
VERSION:2.0
PRODID:-//Cocoon a.s.b.l.
CALSCALE:GREGORIAN
METHOD:PUBLISH
X-WR-CALNAME:Cocoon a.s.b.l.
X-ORIGINAL-URL:https://cocoon-asbl.be/formations/event/fin-de-liste/
X-WR-CALDESC:Fin de liste
BEGIN:VEVENT
DTSTART:
DTEND:
SUMMARY:Fin de liste
DESCRIPTION:
LOCATION:
END:VEVENT
END:VCALENDAR
