BEGIN:VCALENDAR
VERSION:2.0
PRODID:-//Cocoon a.s.b.l.
CALSCALE:GREGORIAN
METHOD:PUBLISH
X-WR-CALNAME:Cocoon a.s.b.l.
X-ORIGINAL-URL:https://cocoon-asbl.be/formations/event/creer-des-capsules-videos-comme-outil-de-communication/
X-WR-CALDESC:Créer des capsules vidéos comme outil de communication
BEGIN:VEVENT
DTSTART:20201011T000000
DTEND:20201012T000000
SUMMARY:Créer des capsules vidéos comme outil de communication
DESCRIPTION:
LOCATION:rue des bluets, 13, Seraing
END:VEVENT
END:VCALENDAR
