BEGIN:VCALENDAR
VERSION:2.0
PRODID:-//Cocoon a.s.b.l.
CALSCALE:GREGORIAN
METHOD:PUBLISH
X-WR-CALNAME:Cocoon a.s.b.l.
X-ORIGINAL-URL:https://cocoon-asbl.be/formations/event/fini-le-mode-automatique-jactive-mon-potentiel/
X-WR-CALDESC:Fini le mode automatique, j&rsquo;active mon potentiel !
BEGIN:VEVENT
DTSTART:20210924T090000
DTEND:20211112T160000
SUMMARY:Fini le mode automatique, j&rsquo;active mon potentiel !
DESCRIPTION:
LOCATION:ruelle renard 11, 4030 GRIVEGNEE
END:VEVENT
END:VCALENDAR
