BEGIN:VCALENDAR
VERSION:2.0
PRODID:-//Cocoon a.s.b.l.
CALSCALE:GREGORIAN
METHOD:PUBLISH
X-WR-CALNAME:Cocoon a.s.b.l.
X-ORIGINAL-URL:https://cocoon-asbl.be/formations/event/oser-ou-gerer-le-conflit-approche-pratique-2/
X-WR-CALDESC:Oser ou gérer le conflit. Approche pratique
BEGIN:VEVENT
DTSTART:20200319T090000
DTEND:20200320T160000
SUMMARY:Oser ou gérer le conflit. Approche pratique
DESCRIPTION:
LOCATION:
END:VEVENT
END:VCALENDAR
