BEGIN:VCALENDAR
VERSION:2.0
PRODID:-//Cocoon a.s.b.l.
CALSCALE:GREGORIAN
METHOD:PUBLISH
X-WR-CALNAME:Cocoon a.s.b.l.
X-ORIGINAL-URL:https://cocoon-asbl.be/formations/event/realiser-sa-carte-centrale-avec-le-freemind-pour-gerer-les-documents-electroniques-2/
X-WR-CALDESC:Réaliser sa carte centrale avec le Freemind pour gérer les documents électroniques
BEGIN:VEVENT
DTSTART:20200319T090000
DTEND:20200320T160000
SUMMARY:Réaliser sa carte centrale avec le Freemind pour gérer les documents électroniques
DESCRIPTION:
LOCATION:Maison Gentry Dojo JKY Debatty -  rue Dartois 44 à 4000 Liège
END:VEVENT
END:VCALENDAR
