BEGIN:VCALENDAR
VERSION:2.0
PRODID:-//Cocoon a.s.b.l.
CALSCALE:GREGORIAN
METHOD:PUBLISH
X-WR-CALNAME:Cocoon a.s.b.l.
X-ORIGINAL-URL:https://cocoon-asbl.be/formations/event/former-en-presence-et-avec-bienveillance/
X-WR-CALDESC:Former en présence et avec bienveillance
BEGIN:VEVENT
DTSTART:20210503T090000
DTEND:20210525T160000
SUMMARY:Former en présence et avec bienveillance
DESCRIPTION:
LOCATION:Centre de Ressources Pédagogiques - Chaussée des Collines, 54 à 1300 wavre
END:VEVENT
END:VCALENDAR
