BEGIN:VCALENDAR
VERSION:2.0
PRODID:-//Cocoon a.s.b.l.
CALSCALE:GREGORIAN
METHOD:PUBLISH
X-WR-CALNAME:Cocoon a.s.b.l.
X-ORIGINAL-URL:https://cocoon-asbl.be/formations/event/faire-face-a-lagressivite-2/
X-WR-CALDESC:Faire face à l&rsquo;agressivité
BEGIN:VEVENT
DTSTART:20211005T000000
DTEND:
SUMMARY:Faire face à l&rsquo;agressivité
DESCRIPTION:
LOCATION:Saint- Gilles. 
END:VEVENT
END:VCALENDAR
