BEGIN:VCALENDAR
VERSION:2.0
PRODID:-//Cocoon a.s.b.l.
CALSCALE:GREGORIAN
METHOD:PUBLISH
X-WR-CALNAME:Cocoon a.s.b.l.
X-ORIGINAL-URL:https://cocoon-asbl.be/formations/event/la-meditation-dynamique/
X-WR-CALDESC:La méditation dynamique
BEGIN:VEVENT
DTSTART:20201109T090000
DTEND:20201109T160000
SUMMARY:La méditation dynamique
DESCRIPTION:
LOCATION:Rue du Collège 8 à 5000 Namur
END:VEVENT
END:VCALENDAR
