BEGIN:VCALENDAR
VERSION:2.0
PRODID:-//Cocoon a.s.b.l.
CALSCALE:GREGORIAN
METHOD:PUBLISH
X-WR-CALNAME:Cocoon a.s.b.l.
X-ORIGINAL-URL:https://cocoon-asbl.be/formations/event/la-meditation-dynamique-2/
X-WR-CALDESC:La méditation dynamique
BEGIN:VEVENT
DTSTART:20210308T000000
DTEND:20210308T000000
SUMMARY:La méditation dynamique
DESCRIPTION:
LOCATION:Rue Peetermans 78 à 4100 Seraing
END:VEVENT
END:VCALENDAR
