BEGIN:VCALENDAR
VERSION:2.0
PRODID:-//Cocoon a.s.b.l.
CALSCALE:GREGORIAN
METHOD:PUBLISH
X-WR-CALNAME:Cocoon a.s.b.l.
X-ORIGINAL-URL:https://cocoon-asbl.be/formations/event/le-harcelement-scolaire-outils-de-prevention/
X-WR-CALDESC:Le harcèlement scolaire : outils de prévention
BEGIN:VEVENT
DTSTART:20210128T090000
DTEND:20210129T040000
SUMMARY:Le harcèlement scolaire : outils de prévention
DESCRIPTION:
LOCATION:distanciel
END:VEVENT
END:VCALENDAR
