BEGIN:VCALENDAR
VERSION:2.0
PRODID:-//Cocoon a.s.b.l.
CALSCALE:GREGORIAN
METHOD:PUBLISH
X-WR-CALNAME:Cocoon a.s.b.l.
X-ORIGINAL-URL:https://cocoon-asbl.be/formations/event/travailler-et-enseigner-de-facon-participative-avec-lintelligence-collective/
X-WR-CALDESC:Travailler et enseigner de façon participative avec l’Intelligence Collective
BEGIN:VEVENT
DTSTART:20210311T090000
DTEND:20210312T160000
SUMMARY:Travailler et enseigner de façon participative avec l’Intelligence Collective
DESCRIPTION:
LOCATION:Parc des Marêts Rue Peetermans, 78 4100 Seraing
END:VEVENT
END:VCALENDAR
