BEGIN:VCALENDAR
VERSION:2.0
PRODID:-//Cocoon a.s.b.l.
CALSCALE:GREGORIAN
METHOD:PUBLISH
X-WR-CALNAME:Cocoon a.s.b.l.
X-ORIGINAL-URL:https://cocoon-asbl.be/formations/event/la-meditation-dynamique-4/
X-WR-CALDESC:La méditation dynamique
BEGIN:VEVENT
DTSTART:20220117T000000
DTEND:20220117T000000
SUMMARY:La méditation dynamique
DESCRIPTION:
LOCATION:Namur
END:VEVENT
END:VCALENDAR
